BEGIN:VCALENDAR
VERSION:2.0
PRODID:-//Mikkelin Urheiluautoilijat ry. - ECPv6.15.17//NONSGML v1.0//EN
CALSCALE:GREGORIAN
METHOD:PUBLISH
X-ORIGINAL-URL:https://mikua.fi/uudet
X-WR-CALDESC:Tapahtumat Mikkelin Urheiluautoilijat ry.
REFRESH-INTERVAL;VALUE=DURATION:PT1H
X-Robots-Tag:noindex
X-PUBLISHED-TTL:PT1H
BEGIN:VTIMEZONE
TZID:Europe/Helsinki
BEGIN:DAYLIGHT
TZOFFSETFROM:+0200
TZOFFSETTO:+0300
TZNAME:EEST
DTSTART:20220327T010000
END:DAYLIGHT
BEGIN:STANDARD
TZOFFSETFROM:+0300
TZOFFSETTO:+0200
TZNAME:EET
DTSTART:20221030T010000
END:STANDARD
BEGIN:DAYLIGHT
TZOFFSETFROM:+0200
TZOFFSETTO:+0300
TZNAME:EEST
DTSTART:20230326T010000
END:DAYLIGHT
BEGIN:STANDARD
TZOFFSETFROM:+0300
TZOFFSETTO:+0200
TZNAME:EET
DTSTART:20231029T010000
END:STANDARD
BEGIN:DAYLIGHT
TZOFFSETFROM:+0200
TZOFFSETTO:+0300
TZNAME:EEST
DTSTART:20240331T010000
END:DAYLIGHT
BEGIN:STANDARD
TZOFFSETFROM:+0300
TZOFFSETTO:+0200
TZNAME:EET
DTSTART:20241027T010000
END:STANDARD
END:VTIMEZONE
BEGIN:VEVENT
DTSTART;TZID=Europe/Helsinki:20230511T000000
DTEND;TZID=Europe/Helsinki:20231231T000000
DTSTAMP:20260420T035441
CREATED:20230511T120532Z
LAST-MODIFIED:20230515T152940Z
UID:1503-1683763200-1703980800@mikua.fi
SUMMARY:Mikkelin Urheiluautoilijoiden arjessa mukana päivittäin
DESCRIPTION:
URL:https://mikua.fi/uudet/event/mikkelin-urheiluautoilijoiden-arjessa-mukana-paivittain/
END:VEVENT
BEGIN:VEVENT
DTSTART;TZID=Europe/Helsinki:20231108T180000
DTEND;TZID=Europe/Helsinki:20231108T210000
DTSTAMP:20260420T035441
CREATED:20231017T183120Z
LAST-MODIFIED:20231017T183210Z
UID:1576-1699466400-1699477200@mikua.fi
SUMMARY:Pimee pyöritys ke 8.11.23 klo 18.00
DESCRIPTION:Tätä on odotettu!!! Nyt kaikki mukaan pyörittelemään autolla pimeässä. Tämä on koko perheen tapahtuma – tule kokeilemaan autosuunnistusta keskiviikkona 8.11.2023!\n\nIlmoittautuminen alkaa klo 18.00 ja ensimmäinen pari lähtee matkaan klo 18.30.\nPaikkana Mikkelin Urheiluautoilijoiden toimisto osoitteessa Lekatie 2.\n\nTarvitset vain auton\, ajokortillisen kuljettajan\, ”kartturin” sekä leikkimieltä ja tarkat silmät. Lämpimästi tervetuloa kokeilemaan!!!\nHinta 10€/kilpailijapari\n\n PS. Muista heijastin…
URL:https://mikua.fi/uudet/event/pimee-pyoritys-2/
LOCATION:MikUA:n toimisto\, Lekatie 2\, Mikkeli\, 50170\, Suomi
END:VEVENT
BEGIN:VEVENT
DTSTART;TZID=Europe/Helsinki:20231125T180000
DTEND;TZID=Europe/Helsinki:20231125T233000
DTSTAMP:20260420T035441
CREATED:20231101T162359Z
LAST-MODIFIED:20231101T162449Z
UID:1584-1700935200-1700955000@mikua.fi
SUMMARY:Pikkujoulut la 25.11.2023 klo 18.00
DESCRIPTION:Tip tap! \nMikkelin Urheiluautolijat ry:n PIKKUJOULUJA vietetään Urpolan Kartanossa la 25.11.2023 klo 18.00 alkaen. \nIlmoittautumiset su 19.11. mennessä. Olli Karstuselle\, joko spostina olli.karstunen@mikua.fi tai puhelimitse 050 3095878. \nIllalliskortti kustantaa 40€ ja sisältää joulumenun\, jälkiruoan\, leivät & levitteet\, sekä ruokajuomat \nLÄMPIMÄSTI TERVETULOA!
URL:https://mikua.fi/uudet/event/pikkujoulut-la-25-11-2023-klo-18-urpolan-kartanolla/
LOCATION:Urpolan Kartano\, Mikkeli\, Selännekatu 30\, MIKKELI\, 50100\, Suomi
END:VEVENT
END:VCALENDAR