BEGIN:VCALENDAR
VERSION:2.0
PRODID:-//Mikkelin Urheiluautoilijat ry. - ECPv6.15.17//NONSGML v1.0//EN
CALSCALE:GREGORIAN
METHOD:PUBLISH
X-ORIGINAL-URL:https://mikua.fi/uudet
X-WR-CALDESC:Tapahtumat Mikkelin Urheiluautoilijat ry.
REFRESH-INTERVAL;VALUE=DURATION:PT1H
X-Robots-Tag:noindex
X-PUBLISHED-TTL:PT1H
BEGIN:VTIMEZONE
TZID:Europe/Helsinki
BEGIN:DAYLIGHT
TZOFFSETFROM:+0200
TZOFFSETTO:+0300
TZNAME:EEST
DTSTART:20230326T010000
END:DAYLIGHT
BEGIN:STANDARD
TZOFFSETFROM:+0300
TZOFFSETTO:+0200
TZNAME:EET
DTSTART:20231029T010000
END:STANDARD
BEGIN:DAYLIGHT
TZOFFSETFROM:+0200
TZOFFSETTO:+0300
TZNAME:EEST
DTSTART:20240331T010000
END:DAYLIGHT
BEGIN:STANDARD
TZOFFSETFROM:+0300
TZOFFSETTO:+0200
TZNAME:EET
DTSTART:20241027T010000
END:STANDARD
BEGIN:DAYLIGHT
TZOFFSETFROM:+0200
TZOFFSETTO:+0300
TZNAME:EEST
DTSTART:20250330T010000
END:DAYLIGHT
BEGIN:STANDARD
TZOFFSETFROM:+0300
TZOFFSETTO:+0200
TZNAME:EET
DTSTART:20251026T010000
END:STANDARD
END:VTIMEZONE
BEGIN:VEVENT
DTSTART;VALUE=DATE:20240302
DTEND;VALUE=DATE:20240303
DTSTAMP:20260419T215826
CREATED:20240204T115205Z
LAST-MODIFIED:20240204T115804Z
UID:1653-1709337600-1709423999@mikua.fi
SUMMARY:Kangasniemen F-Cup 2.3.2024 - talkoolaisia tarvitaan
DESCRIPTION:Kangasniemen F-Cupissa MikUA:lla järjestettävänä EK 2.3.2024\nInnokkaita rallin tekijöitä etsii Veli-Matti. Hänet tavoitat numerosta 040 187 9944. \nEK ajoittuu iltapäivälle / alkuiltaan ja ennen EK:ta paistellaan makkarat\, sekä suoritetaan tehtävien jako. \nIlmoittaudu mukaan tekemään kanssamme motorsporttia 🙂 \nLisätiedot Matilta!
URL:https://mikua.fi/uudet/event/kangasniemen-f-cup-2-3-2024/
LOCATION:Kangasniemi
END:VEVENT
END:VCALENDAR